BEGIN:VCALENDAR
VERSION:2.0
PRODID:-//ALA San Diego - ECPv6.15.20//NONSGML v1.0//EN
CALSCALE:GREGORIAN
METHOD:PUBLISH
X-ORIGINAL-URL:https://www.sandiegoala.org
X-WR-CALDESC:Events for ALA San Diego
REFRESH-INTERVAL;VALUE=DURATION:PT1H
X-Robots-Tag:noindex
X-PUBLISHED-TTL:PT1H
BEGIN:VTIMEZONE
TZID:America/Los_Angeles
BEGIN:DAYLIGHT
TZOFFSETFROM:-0800
TZOFFSETTO:-0700
TZNAME:PDT
DTSTART:20230312T100000
END:DAYLIGHT
BEGIN:STANDARD
TZOFFSETFROM:-0700
TZOFFSETTO:-0800
TZNAME:PST
DTSTART:20231105T090000
END:STANDARD
BEGIN:DAYLIGHT
TZOFFSETFROM:-0800
TZOFFSETTO:-0700
TZNAME:PDT
DTSTART:20240310T100000
END:DAYLIGHT
BEGIN:STANDARD
TZOFFSETFROM:-0700
TZOFFSETTO:-0800
TZNAME:PST
DTSTART:20241103T090000
END:STANDARD
BEGIN:DAYLIGHT
TZOFFSETFROM:-0800
TZOFFSETTO:-0700
TZNAME:PDT
DTSTART:20250309T100000
END:DAYLIGHT
BEGIN:STANDARD
TZOFFSETFROM:-0700
TZOFFSETTO:-0800
TZNAME:PST
DTSTART:20251102T090000
END:STANDARD
END:VTIMEZONE
BEGIN:VEVENT
DTSTART;TZID=America/Los_Angeles:20240307T170000
DTEND;TZID=America/Los_Angeles:20240307T190000
DTSTAMP:20260424T064117
CREATED:20240116T202810Z
LAST-MODIFIED:20240214T225805Z
UID:13372-1709830800-1709838000@www.sandiegoala.org
SUMMARY:Past Presidents Social
DESCRIPTION:Members and Business Partners are invited to attend our past presidents social and networking happy hour! \n \nRSVP
URL:https://www.sandiegoala.org/event/past-presidents-social-2/
LOCATION:BJs Mission Valley\, 1370 Frazee Rd\,\, San Diego\, CA\, 92108\, United States
END:VEVENT
END:VCALENDAR