BEGIN:VCALENDAR
VERSION:2.0
PRODID:-//ALA San Diego - ECPv6.15.20//NONSGML v1.0//EN
CALSCALE:GREGORIAN
METHOD:PUBLISH
X-WR-CALNAME:ALA San Diego
X-ORIGINAL-URL:https://www.sandiegoala.org
X-WR-CALDESC:Events for ALA San Diego
REFRESH-INTERVAL;VALUE=DURATION:PT1H
X-Robots-Tag:noindex
X-PUBLISHED-TTL:PT1H
BEGIN:VTIMEZONE
TZID:America/Los_Angeles
BEGIN:DAYLIGHT
TZOFFSETFROM:-0800
TZOFFSETTO:-0700
TZNAME:PDT
DTSTART:20230312T100000
END:DAYLIGHT
BEGIN:STANDARD
TZOFFSETFROM:-0700
TZOFFSETTO:-0800
TZNAME:PST
DTSTART:20231105T090000
END:STANDARD
BEGIN:DAYLIGHT
TZOFFSETFROM:-0800
TZOFFSETTO:-0700
TZNAME:PDT
DTSTART:20240310T100000
END:DAYLIGHT
BEGIN:STANDARD
TZOFFSETFROM:-0700
TZOFFSETTO:-0800
TZNAME:PST
DTSTART:20241103T090000
END:STANDARD
BEGIN:DAYLIGHT
TZOFFSETFROM:-0800
TZOFFSETTO:-0700
TZNAME:PDT
DTSTART:20250309T100000
END:DAYLIGHT
BEGIN:STANDARD
TZOFFSETFROM:-0700
TZOFFSETTO:-0800
TZNAME:PST
DTSTART:20251102T090000
END:STANDARD
END:VTIMEZONE
BEGIN:VEVENT
DTSTART;TZID=America/Los_Angeles:20240716T114500
DTEND;TZID=America/Los_Angeles:20240716T131500
DTSTAMP:20260420T024032
CREATED:20240605T202956Z
LAST-MODIFIED:20240701T181157Z
UID:13593-1721130300-1721135700@www.sandiegoala.org
SUMMARY:July Membership Meeting - M365 Tips\, Tricks & More!
DESCRIPTION:About the speaker: \nJune Hunter is a Technical Enablement Lead for legal software company\, DISCO\, where she works daily to train individuals on legal technology.  Prior to joining DISCO\, June worked as a paralegal/IT services provider/eDiscovery Specialist at CGS3\, LLP ‐ a boutique real estate firm in San Diego. She is equipped with a powerful combination of IT systems expertise and legal experience and has a unique capability for recognizing and resolving the complex technology issues encountered in a law firm environment.  A graduate of the ABA‐approved Paralegal Studies program at UC San Diego\, June has worked in the legal field for 34+ years in roles such as legal secretary\, paralegal\, litigation support\, and computer software trainer. Her industry experience and talent has made her a go‐to provider of clear\, hands‐on training for other legal professionals in how to effectively use legal software. \nThe Godfather\n7878 Clairemont Mesa Blvd.\nSan Diego\, CA 92111 \n11:45 am – 12:15 pm Networking Lunch\n12:15 pm – 1:15 pm Educational Session \nRSVP \nWe would like to thank our meeting sponsor: \n \nMembers: Free\nGuests: $65\nPlease note\, if you RSVP and do not attend\, you will incur a $50 no-show fee.\nThank you for your understanding.
URL:https://www.sandiegoala.org/event/july-membership-meeting-3/
LOCATION:The Godfather\, 7878 Clairemont Mesa Blvd\, San Diego\, 92111\, United States
END:VEVENT
END:VCALENDAR