BEGIN:VCALENDAR
VERSION:2.0
PRODID:-//ALA San Diego - ECPv6.15.20//NONSGML v1.0//EN
CALSCALE:GREGORIAN
METHOD:PUBLISH
X-WR-CALNAME:ALA San Diego
X-ORIGINAL-URL:https://www.sandiegoala.org
X-WR-CALDESC:Events for ALA San Diego
REFRESH-INTERVAL;VALUE=DURATION:PT1H
X-Robots-Tag:noindex
X-PUBLISHED-TTL:PT1H
BEGIN:VTIMEZONE
TZID:America/Los_Angeles
BEGIN:DAYLIGHT
TZOFFSETFROM:-0800
TZOFFSETTO:-0700
TZNAME:PDT
DTSTART:20190310T100000
END:DAYLIGHT
BEGIN:STANDARD
TZOFFSETFROM:-0700
TZOFFSETTO:-0800
TZNAME:PST
DTSTART:20191103T090000
END:STANDARD
BEGIN:DAYLIGHT
TZOFFSETFROM:-0800
TZOFFSETTO:-0700
TZNAME:PDT
DTSTART:20200308T100000
END:DAYLIGHT
BEGIN:STANDARD
TZOFFSETFROM:-0700
TZOFFSETTO:-0800
TZNAME:PST
DTSTART:20201101T090000
END:STANDARD
BEGIN:DAYLIGHT
TZOFFSETFROM:-0800
TZOFFSETTO:-0700
TZNAME:PDT
DTSTART:20210314T100000
END:DAYLIGHT
BEGIN:STANDARD
TZOFFSETFROM:-0700
TZOFFSETTO:-0800
TZNAME:PST
DTSTART:20211107T090000
END:STANDARD
BEGIN:DAYLIGHT
TZOFFSETFROM:-0800
TZOFFSETTO:-0700
TZNAME:PDT
DTSTART:20220313T100000
END:DAYLIGHT
BEGIN:STANDARD
TZOFFSETFROM:-0700
TZOFFSETTO:-0800
TZNAME:PST
DTSTART:20221106T090000
END:STANDARD
END:VTIMEZONE
BEGIN:VTIMEZONE
TZID:UTC
BEGIN:STANDARD
TZOFFSETFROM:+0000
TZOFFSETTO:+0000
TZNAME:UTC
DTSTART:20190101T000000
END:STANDARD
END:VTIMEZONE
BEGIN:VEVENT
DTSTART;TZID=America/Los_Angeles:20210223T120000
DTEND;TZID=America/Los_Angeles:20210223T133000
DTSTAMP:20260420T210546
CREATED:20210107T194802Z
LAST-MODIFIED:20210107T195805Z
UID:11126-1614081600-1614087000@www.sandiegoala.org
SUMMARY:February Membership Meeting - Roundtables
DESCRIPTION:Virtual Meeting
URL:https://www.sandiegoala.org/event/february-membership-meeting-roundtables/
END:VEVENT
BEGIN:VEVENT
DTSTART;TZID=America/Los_Angeles:20210209T120000
DTEND;TZID=America/Los_Angeles:20210209T120000
DTSTAMP:20260420T210546
CREATED:20201003T173740Z
LAST-MODIFIED:20210107T195324Z
UID:9456-1612872000-1612872000@www.sandiegoala.org
SUMMARY:Board of Directors Meeting
DESCRIPTION:Virtual Meeting
URL:https://www.sandiegoala.org/event/board-of-directors-meeting-4/
END:VEVENT
BEGIN:VEVENT
DTSTART;TZID=America/Los_Angeles:20210129T083000
DTEND;TZID=America/Los_Angeles:20210129T163000
DTSTAMP:20260420T210546
CREATED:20210107T194042Z
LAST-MODIFIED:20210107T195820Z
UID:11121-1611909000-1611937800@www.sandiegoala.org
SUMMARY:California Legal Management Conference (CaLM)
DESCRIPTION:Virtual Meeting
URL:https://www.sandiegoala.org/event/california-legal-management-conference-calm/
END:VEVENT
BEGIN:VEVENT
DTSTART;VALUE=DATE:20210105
DTEND;VALUE=DATE:20210106
DTSTAMP:20260420T210546
CREATED:20201003T173116Z
LAST-MODIFIED:20201003T173730Z
UID:9451-1609804800-1609891199@www.sandiegoala.org
SUMMARY:Board of Directors Meeting
DESCRIPTION:The Watkins Firm
URL:https://www.sandiegoala.org/event/board-of-directors-meeting-3/
END:VEVENT
BEGIN:VEVENT
DTSTART;VALUE=DATE:20201112
DTEND;VALUE=DATE:20201113
DTSTAMP:20260420T210546
CREATED:20201003T173039Z
LAST-MODIFIED:20201003T173110Z
UID:9449-1605139200-1605225599@www.sandiegoala.org
SUMMARY:BP Appreciation Event
DESCRIPTION:Virtual Meeting
URL:https://www.sandiegoala.org/event/bp-appreciation-event/
END:VEVENT
BEGIN:VEVENT
DTSTART;VALUE=DATE:20201103
DTEND;VALUE=DATE:20201104
DTSTAMP:20260420T210546
CREATED:20201003T172950Z
LAST-MODIFIED:20201003T173458Z
UID:9447-1604361600-1604447999@www.sandiegoala.org
SUMMARY:Board of Directors Meeting
DESCRIPTION:Virtual Meeting
URL:https://www.sandiegoala.org/event/board-of-directors-meeting-2/
END:VEVENT
BEGIN:VEVENT
DTSTART;VALUE=DATE:20201013
DTEND;VALUE=DATE:20201014
DTSTAMP:20260420T210546
CREATED:20201003T172913Z
LAST-MODIFIED:20201003T172943Z
UID:9445-1602547200-1602633599@www.sandiegoala.org
SUMMARY:Managing Partner Luncheon
DESCRIPTION:Virtual Meeting
URL:https://www.sandiegoala.org/event/managing-partner-luncheon/
END:VEVENT
BEGIN:VEVENT
DTSTART;VALUE=DATE:20201006
DTEND;VALUE=DATE:20201007
DTSTAMP:20260420T210546
CREATED:20200911T055427Z
LAST-MODIFIED:20201005T150539Z
UID:9315-1601942400-1602028799@www.sandiegoala.org
SUMMARY:Board of Directors Meeting
DESCRIPTION:Virtual Meeting
URL:https://www.sandiegoala.org/event/board-of-directors-meeting/
END:VEVENT
BEGIN:VEVENT
DTSTART;TZID=UTC:20200814T080000
DTEND;TZID=UTC:20200814T170000
DTSTAMP:20260420T210546
CREATED:20200807T120455Z
LAST-MODIFIED:20200808T003722Z
UID:8894-1597392000-1597424400@www.sandiegoala.org
SUMMARY:August Membership Meeting
DESCRIPTION:11:45 am – 12:00 pm – Registration\n12:00 pm – 1:00 pm – Program
URL:https://www.sandiegoala.org/event/ala-luncheon/
END:VEVENT
END:VCALENDAR