BEGIN:VCALENDAR
VERSION:2.0
PRODID:-//ALA San Diego - ECPv6.15.20//NONSGML v1.0//EN
CALSCALE:GREGORIAN
METHOD:PUBLISH
X-ORIGINAL-URL:https://www.sandiegoala.org
X-WR-CALDESC:Events for ALA San Diego
REFRESH-INTERVAL;VALUE=DURATION:PT1H
X-Robots-Tag:noindex
X-PUBLISHED-TTL:PT1H
BEGIN:VTIMEZONE
TZID:America/Los_Angeles
BEGIN:DAYLIGHT
TZOFFSETFROM:-0800
TZOFFSETTO:-0700
TZNAME:PDT
DTSTART:20250309T100000
END:DAYLIGHT
BEGIN:STANDARD
TZOFFSETFROM:-0700
TZOFFSETTO:-0800
TZNAME:PST
DTSTART:20251102T090000
END:STANDARD
BEGIN:DAYLIGHT
TZOFFSETFROM:-0800
TZOFFSETTO:-0700
TZNAME:PDT
DTSTART:20260308T100000
END:DAYLIGHT
BEGIN:STANDARD
TZOFFSETFROM:-0700
TZOFFSETTO:-0800
TZNAME:PST
DTSTART:20261101T090000
END:STANDARD
BEGIN:DAYLIGHT
TZOFFSETFROM:-0800
TZOFFSETTO:-0700
TZNAME:PDT
DTSTART:20270314T100000
END:DAYLIGHT
BEGIN:STANDARD
TZOFFSETFROM:-0700
TZOFFSETTO:-0800
TZNAME:PST
DTSTART:20271107T090000
END:STANDARD
END:VTIMEZONE
BEGIN:VEVENT
DTSTART;TZID=America/Los_Angeles:20260917T173000
DTEND;TZID=America/Los_Angeles:20260917T203000
DTSTAMP:20260424T160246
CREATED:20260424T230131Z
LAST-MODIFIED:20260424T230131Z
UID:14632-1789666200-1789677000@www.sandiegoala.org
SUMMARY:Couture for a Cause
DESCRIPTION:
URL:https://www.sandiegoala.org/event/couture-for-a-cause-3/
LOCATION:CA
END:VEVENT
BEGIN:VEVENT
DTSTART;TZID=America/Los_Angeles:20261008T170000
DTEND;TZID=America/Los_Angeles:20261008T190000
DTSTAMP:20260424T160246
CREATED:20260424T230213Z
LAST-MODIFIED:20260424T230213Z
UID:14634-1791478800-1791486000@www.sandiegoala.org
SUMMARY:Member Social
DESCRIPTION:
URL:https://www.sandiegoala.org/event/member-social/
LOCATION:Cooley\, 10265 Science Center Dr\, San Diego\, CA\, 92121\, United States
END:VEVENT
BEGIN:VEVENT
DTSTART;TZID=America/Los_Angeles:20261020T114500
DTEND;TZID=America/Los_Angeles:20261020T131500
DTSTAMP:20260424T160246
CREATED:20260424T230245Z
LAST-MODIFIED:20260424T230245Z
UID:14636-1792496700-1792502100@www.sandiegoala.org
SUMMARY:Managing Partner Luncheon
DESCRIPTION:
URL:https://www.sandiegoala.org/event/managing-partner-luncheon-6/
LOCATION:CA
END:VEVENT
END:VCALENDAR