BEGIN:VCALENDAR
VERSION:2.0
PRODID:-//ALA San Diego - ECPv6.15.20//NONSGML v1.0//EN
CALSCALE:GREGORIAN
METHOD:PUBLISH
X-WR-CALNAME:ALA San Diego
X-ORIGINAL-URL:https://www.sandiegoala.org
X-WR-CALDESC:Events for ALA San Diego
REFRESH-INTERVAL;VALUE=DURATION:PT1H
X-Robots-Tag:noindex
X-PUBLISHED-TTL:PT1H
BEGIN:VTIMEZONE
TZID:America/Los_Angeles
BEGIN:DAYLIGHT
TZOFFSETFROM:-0800
TZOFFSETTO:-0700
TZNAME:PDT
DTSTART:20250309T100000
END:DAYLIGHT
BEGIN:STANDARD
TZOFFSETFROM:-0700
TZOFFSETTO:-0800
TZNAME:PST
DTSTART:20251102T090000
END:STANDARD
BEGIN:DAYLIGHT
TZOFFSETFROM:-0800
TZOFFSETTO:-0700
TZNAME:PDT
DTSTART:20260308T100000
END:DAYLIGHT
BEGIN:STANDARD
TZOFFSETFROM:-0700
TZOFFSETTO:-0800
TZNAME:PST
DTSTART:20261101T090000
END:STANDARD
BEGIN:DAYLIGHT
TZOFFSETFROM:-0800
TZOFFSETTO:-0700
TZNAME:PDT
DTSTART:20270314T100000
END:DAYLIGHT
BEGIN:STANDARD
TZOFFSETFROM:-0700
TZOFFSETTO:-0800
TZNAME:PST
DTSTART:20271107T090000
END:STANDARD
END:VTIMEZONE
BEGIN:VEVENT
DTSTART;TZID=America/Los_Angeles:20260721T114500
DTEND;TZID=America/Los_Angeles:20260721T131500
DTSTAMP:20260424T204043
CREATED:20260424T225735Z
LAST-MODIFIED:20260424T225735Z
UID:14624-1784634300-1784639700@www.sandiegoala.org
SUMMARY:July Membership Meeting
DESCRIPTION:
URL:https://www.sandiegoala.org/event/july-membership-meeting-4/
END:VEVENT
BEGIN:VEVENT
DTSTART;TZID=America/Los_Angeles:20260730T173000
DTEND;TZID=America/Los_Angeles:20260730T193000
DTSTAMP:20260424T204043
CREATED:20260424T225900Z
LAST-MODIFIED:20260424T225900Z
UID:14626-1785432600-1785439800@www.sandiegoala.org
SUMMARY:Cocktails & Connections
DESCRIPTION:
URL:https://www.sandiegoala.org/event/cocktails-connections/
LOCATION:Finch\, Thornton & Baird\, LLP\, 4747 Executive Dr\, San Diego\, 92121\, United States
END:VEVENT
END:VCALENDAR